BEGIN:VCALENDAR
VERSION:2.0
PRODID:-//Avena-Hof - ECPv6.15.20//NONSGML v1.0//EN
CALSCALE:GREGORIAN
METHOD:PUBLISH
X-WR-CALNAME:Avena-Hof
X-ORIGINAL-URL:https://avena-hof.de
X-WR-CALDESC:Veranstaltungen für Avena-Hof
REFRESH-INTERVAL;VALUE=DURATION:PT1H
X-Robots-Tag:noindex
X-PUBLISHED-TTL:PT1H
BEGIN:VTIMEZONE
TZID:Europe/Berlin
BEGIN:DAYLIGHT
TZOFFSETFROM:+0100
TZOFFSETTO:+0200
TZNAME:CEST
DTSTART:20250330T010000
END:DAYLIGHT
BEGIN:STANDARD
TZOFFSETFROM:+0200
TZOFFSETTO:+0100
TZNAME:CET
DTSTART:20251026T010000
END:STANDARD
BEGIN:DAYLIGHT
TZOFFSETFROM:+0100
TZOFFSETTO:+0200
TZNAME:CEST
DTSTART:20260329T010000
END:DAYLIGHT
BEGIN:STANDARD
TZOFFSETFROM:+0200
TZOFFSETTO:+0100
TZNAME:CET
DTSTART:20261025T010000
END:STANDARD
BEGIN:DAYLIGHT
TZOFFSETFROM:+0100
TZOFFSETTO:+0200
TZNAME:CEST
DTSTART:20270328T010000
END:DAYLIGHT
BEGIN:STANDARD
TZOFFSETFROM:+0200
TZOFFSETTO:+0100
TZNAME:CET
DTSTART:20271031T010000
END:STANDARD
END:VTIMEZONE
BEGIN:VEVENT
DTSTART;TZID=Europe/Berlin:20260422T190000
DTEND;TZID=Europe/Berlin:20260422T203000
DTSTAMP:20260422T102515
CREATED:20221109T092215Z
LAST-MODIFIED:20260412T125446Z
UID:3073-1776884400-1776889800@avena-hof.de
SUMMARY:Lieder\, Mantren\, Kreisgesänge
DESCRIPTION:Mi 22.04.26\n19 – 20.30 Uhr\nWir singen einfache\, schöne Lieder\naus verschiedenen Kulturen.\nEs sind keine Vorkenntnisse nötig\, \nim Vordergrund steht die Freude am Singen \nbitte gib uns eine kurze Rückmeldung\,\nwenn du dabei sein möchtest \n wir freuen uns auf Dich \n  \nWo:                            Avena-Hof\nLeitung:                    Thomas Kovacic & Tobi Biller\nUnkostenbeitr.:       Spende\nbitte anmelden:       Tel 09207 – 98 86 51 / info@Avena-Hof.de
URL:https://avena-hof.de/event/lieder-mantren-kreisgesaenge/
LOCATION:Avena-Hof\, Voitmannsdorf 11\, Königsfeld\, 96167\, Deutschland
CATEGORIES:Konzert
ATTACH;FMTTYPE=image/png:https://avena-hof.de/wp-content/uploads/2022/11/Lieder-Mantren-Kreisgesaenge_leer1-e1774873005772.png
END:VEVENT
BEGIN:VEVENT
DTSTART;TZID=Europe/Berlin:20260425T100000
DTEND;TZID=Europe/Berlin:20260425T130000
DTSTAMP:20260422T102515
CREATED:20260222T090108Z
LAST-MODIFIED:20260222T101634Z
UID:4834-1777111200-1777122000@avena-hof.de
SUMMARY:Holzlöffel Brennen und Schnitzen
DESCRIPTION:Wir kommen rund um das Feuer zusammen und stellen mit einer uralten Technik unseren eigenen Holzlöffel her. Natürlich probieren wir diesen dann gleich bei einer warmen Mahlzeit aus 😉\n \nFür Erwachsene und Familien mit Kindern ab 7 Jahren\n*Preis:** 20 € Erwachsene / 10 € Kinder\ninklusive Material und Probiermahlzeit\n \nWenn vorhanden\, bringt euer eigenes Schnitzmesser mit. Ausleihe nach Absprache möglich.\n \nWo: Lagerfeuerplatz am Avena-Hof\,\n         Voitmannsdorf 12\, 96167 Königsfeld\nWann: 25.04.26\n10 – 13 Uhr\n \nAnmeldung bis 20.04 per E-Mail an:\nwurzeln-und-licht(aet)posteo.de
URL:https://avena-hof.de/event/holzloeffel-brennen-und-schnitzen/
ATTACH;FMTTYPE=image/jpeg:https://avena-hof.de/wp-content/uploads/2026/02/Loeffel4.jpg
END:VEVENT
BEGIN:VEVENT
DTSTART;TZID=Europe/Berlin:20260503T170000
DTEND;TZID=Europe/Berlin:20260503T210000
DTSTAMP:20260422T102515
CREATED:20260412T124145Z
LAST-MODIFIED:20260412T124439Z
UID:4930-1777827600-1777842000@avena-hof.de
SUMMARY:Arohanui Dance
DESCRIPTION:Arohanui Dance – eine musikalische Reise ins Universum der Liebe 🎶💫❤️ \n\nAuf einer Klangreise durch den musikalischen Kosmos darfst du deinen Gefühlen bewusst Ausdruck verleihen … tanzend\, träumend\, tönend und springend 🙂\nDabei laden wir „AROHANUI“ – die große allumfassende Liebe – in unseren Tanzraum ein\, um uns mit der Erde zu verwurzeln und uns mit den kosmischen Kräften in Verbindung zu bringen.\n\nWann:          Sonntag\, den 03.05.2026\nWo:               Seminarhaus Avena Hof\,  Voitmannsdorf 12\, 96167 Königsfeld\nKosten:     Wertschätzungsbeitrag 20-35 €\n\n17- 18:00 Uhr: Ankommen im Kreis & Gruppen-Energizer\n18- 20:00 Uhr: Tanzen und Träumen im Arohanui Dance\n20- 21:00 Uhr: Entspanntes Ausklingen & Stärken beim Mitbringbuffet\n……\nWenn es dir nicht möglich ist\, den genannten Wertschätzungsbeitrag zu geben\, dann melde dich bei uns und wir finden eine Lösung!\n……\nMach mit und stärke dich im Anschluss beim Mitbringbuffet\n(es lebt von mitgebrachten Köstlichkeiten 😇)\n–>Wir stellen eine kräftigende Suppe bereit 🙂\n……\nMelde dich bis spätestens 01. Mai per Email an:\nklangmeister-weismain[ät]outlook.com\n\n……\nWir freuen uns auf eine kosmische Klangreise mit euch😊\nTobi Biller & Hannes Maier
URL:https://avena-hof.de/event/arohanui-dance/
LOCATION:Avena-Hof\, Voitmannsdorf 11\, Königsfeld\, 96167\, Deutschland
ATTACH;FMTTYPE=image/jpeg:https://avena-hof.de/wp-content/uploads/2026/04/Ecstatic-Dance2.jpg
ORGANIZER;CN="Tobi Biller & Hannes Maier":MAILTO:klangmeister-weismain@outlook.com
END:VEVENT
BEGIN:VEVENT
DTSTART;TZID=Europe/Berlin:20260515T190000
DTEND;TZID=Europe/Berlin:20260517T150000
DTSTAMP:20260422T102515
CREATED:20211115T172717Z
LAST-MODIFIED:20260225T095845Z
UID:2337-1778871600-1779030000@avena-hof.de
SUMMARY:Reiki 1 - Seminar
DESCRIPTION:Reiki\ndas „Usui-System“\nder natürlichen Heilung\nReiki\, eine Wiederentdeckung aus der jahrtausendealten Tradition des natürlichen Heilens\, wird jene Kraft genannt\, die die Grundlage allen Lebens bildet. Diese universale Lebensenergie kann durch entsprechende Einstimmungen in jedem Menschen geweckt werden\, so dass sie als heilende und harmonisierende Kraft durch unsere Hände fließt. Reiki unterstützt eine Heil-Werdung im ursprünglichen Sinne\, denn es führt den Menschen zu einer Harmonie mit sich selbst\, lindert Schmerzen\, bewirkt tiefe Entspannung\, reinigt von Giftstoffen\, verfeinert unsere Energiezentren und trägt zur Auflösung unserer Krankheitsursachen auf allen Ebenen bei. \nReiki ist einfach zu erlernen und erfordert keinerlei Vorkenntnisse. Bereits mit dem 1.Reiki-Grad erlernen wir die Fähigkeit\, uns selbst und andere wirkungsvoll zu behandeln. \nSeminartermine Reiki\n  \nReiki I. Grad\n15. – 17. Mai 2026 \nBeginn Fr 19.00 Uhr\, Ende So ca. 14.00 Uhr \nGebühr: € 250.-\nincl. Seminarunterlagen\, 1 x Mittagessen\, Kaffee\, Tee \n  \nReiki II. Grad\n\n\n\nTermin in Arbeit \n\nSa + So jeweils 10.00 – 17.00 Uhr \nGebühr: € 550.-\nincl. Seminarunterlagen\, Wasser\, Tee \n\n\n\n\n\n\n\n  \n  \n 
URL:https://avena-hof.de/event/reiki-1-seminar-2/
LOCATION:Avena-Hof\, Voitmannsdorf 11\, Königsfeld\, 96167\, Deutschland
ATTACH;FMTTYPE=image/jpeg:https://avena-hof.de/wp-content/uploads/2019/11/saffu-Ct1Mx5OTn9A-unsplash.jpg
END:VEVENT
BEGIN:VEVENT
DTSTART;TZID=Europe/Berlin:20260626T170000
DTEND;TZID=Europe/Berlin:20260628T160000
DTSTAMP:20260422T102515
CREATED:20210530T220251Z
LAST-MODIFIED:20260308T154126Z
UID:2141-1782493200-1782662400@avena-hof.de
SUMMARY:Touch for Health 1
DESCRIPTION:Touch for Health\nGesund durch Berühren \n„Touch for Health“ (TfH) – Gesund durch Berühren –  bildet die Grundlage dessen\, was heute unter „Angewandter Kinesiologie“ bekannt ist. TfH wurde in den 60er Jahren von dem Chiropraktiker Dr. Goodheart/USA  und John Thie/USA entwickelt. Im Touch-for-Health-System fließen viele verschiedene Behandlungssysteme\, unter anderem Chiropraktik\, Physiotherapie\, TCM zusammen. Das älteste\, die traditionelle chinesische Medizin (TCM) mit seiner Meridianlehre\, dient auch der Akupunktur als Basis.\nIn der TCM wird davon ausgegangen\, dass die Lebensenergie Qi oder Chi auf Energiebahnen bzw. Meridianen durch den Körper fließt. Kommt es dort zu Störungen und Blockaden\, wird das Wohlbefinden beeinträchtigt. Das kann langfristig zu körperlichen und seelischen Beschwerden führen und begünstigt die Entstehung von Krankheiten.\nDr. Goodheart kommt der Verdienst zu\, uns mit seinem Touch for Health eine ebenso einfache wie effektive Diagnose- und Behandlungsmethode zugänglich gemacht zu haben\, die leicht zu erlernen ist.\nDas aussergewöhnliche an dieser Methode ist\, dass Störungen im Energiefluss unseres Körpers (welche die Grundlage von Krankheiten bilden) über ein Muskeltestverfahren – ohne Geräte festgestellt werden können. Dies erlaubt uns eine direkte Kommunikation mit dem Körper.\nIm Laufe der letzten 50 Jahre kamen viele weitere Elemente aus Medizin\, Psychotherapie\, NLP\, Mentaltraining\, Physiotherapie\, etc. hinzu\, die sich mit Hilfe des kinesiologischen Muskeltests auf erstaunliche Weise miteinander verknüpfen ließen. \nWeitere Themenbereiche des TfH sind u. a.:\nAllergien\, Schmerzreduktion\, Nahrungsmittelunverträglichkeiten\,\nZusammenhang physischer Störungen und emotionaler Blockaden\n\n\n\n\n\nTouch for Health 1\n\n\nErlernt werden die Testmethoden der 14 Grundmuskelgruppen\, die mit den\n14 Akupunkturmeridianen korrespondieren. Durch Anwendung verschiedener Reflexpunkte und anderer korrigierender Elemente wird ein grundlegendes Muskel- und Energiegleichgewicht hergestellt. Außerdem geht es um Stärkung der Muskeln durch Lebensmittel\, emotionale Stressbefreiung und viele andere Dinge. \nDieser Kurs bildet die ideale Grundlage für alle weiteren Kinesiologischen Kurse. Aus dem Inhalt: *Erlernen des Muskeltests * 14 Grundmuskeln *einfacher Nahrungsmitteltest *einfache Schmerzhilfe *Augen u. Ohren einschalten
URL:https://avena-hof.de/event/touch-for-health-1/
LOCATION:Avena-Hof\, Voitmannsdorf 11\, Königsfeld\, 96167\, Deutschland
CATEGORIES:Ausbildung
ATTACH;FMTTYPE=image/png:https://avena-hof.de/wp-content/uploads/2019/11/Touch1.png
END:VEVENT
BEGIN:VEVENT
DTSTART;TZID=Europe/Berlin:20260626T170000
DTEND;TZID=Europe/Berlin:20260628T173000
DTSTAMP:20260422T102515
CREATED:20220901T121744Z
LAST-MODIFIED:20260216T120322Z
UID:2909-1782493200-1782667800@avena-hof.de
SUMMARY:Start Ausbildung Professionelle Kinesiologie
DESCRIPTION:Ausbildungs-Start\n26.-28.06.2026
URL:https://avena-hof.de/event/ausbildung-professionelle-kinesiologie/
LOCATION:Avena-Hof\, Voitmannsdorf 11\, Königsfeld\, 96167\, Deutschland
CATEGORIES:Ausbildung
ATTACH;FMTTYPE=image/jpeg:https://avena-hof.de/wp-content/uploads/2019/08/panthermedia_B5756977_766x800.jpg
END:VEVENT
BEGIN:VEVENT
DTSTART;TZID=Europe/Berlin:20261129T143000
DTEND;TZID=Europe/Berlin:20261129T193000
DTSTAMP:20260422T102515
CREATED:20191104T155446Z
LAST-MODIFIED:20260412T140311Z
UID:1193-1795962600-1795980600@avena-hof.de
SUMMARY:Voitmannsdorfer Wald-Weihnacht
DESCRIPTION:
URL:https://avena-hof.de/event/voitmannsdorfer-wald-weihnacht/
LOCATION:Voitmannsdorf am Eisweiher\, Voitmannsdorf am Eisweiher\, Königsfeld\, 96167\, Deutschland
ATTACH;FMTTYPE=image/gif:https://avena-hof.de/wp-content/uploads/2019/11/alphornblaeser1-scaled.gif
END:VEVENT
BEGIN:VEVENT
DTSTART;TZID=Europe/Berlin:20261221T180000
DTEND;TZID=Europe/Berlin:20261221T193000
DTSTAMP:20260422T102515
CREATED:20191104T162354Z
LAST-MODIFIED:20260412T141315Z
UID:1207-1797876000-1797881400@avena-hof.de
SUMMARY:Winter-Sonnwend-Feier
DESCRIPTION:Bevor der Jahreskreis wieder von neuem beginnt\, möchten wir gemeinsam mit Euch noch einmal innehalten\, die Ereignisse des Jahres nachklingen lassen und dann das Licht des neuen Jahreskreises willkommen heißen. \nEine schöne Gelegenheit uns wieder zu sehen und einander in gemütlicher Runde zu begegnen. \nWie in jedem Jahr\, beginnen wir In Stille und Dunkelheit – auf unserer Wiese oberhalb des Hangs.\nDann bringen uns die Kinder aus verschiedenen Himmelsrichtungen mit Fackeln das Licht.\nWir singen  Lieder aus aller Welt\, genießen die Rückkehr des Lichts\, symbolisiert durch das Feuer und haben anschließend Zeit\, in unserem Avena-Hof-Bistro gemeinsam eine heiße Suppe zu essen\, Glühwein oder Punsch zu trinken und miteinander zu plauschen.\n \nWir freuen uns auf Euch \n mit herzlichen Grüßen \nEuer Avena-Hof-Team \n  \nKinder\, die gerne Fackelträger sein möchten\, sollten möglichst 30 Minuten früher kommen (bitte Fackel mitbringen)
URL:https://avena-hof.de/event/winter-sonnwend-feier/
LOCATION:Avena-Hof\, Voitmannsdorf 11\, Königsfeld\, 96167\, Deutschland
ATTACH;FMTTYPE=image/jpeg:https://avena-hof.de/wp-content/uploads/2019/11/feuer.jpg
END:VEVENT
END:VCALENDAR